Workbook

Sheet 표준계약서
A1: 공 사 도 급 표 준 계 약 서 | Q1: 계 약 번 호 | V1: 제 | Z1: 호
Q2: 공 고 번 호 | V2: 제 | Z2: 호
A3: 계 약 자 | B3: 발 주 처
B4: 계 약 상 대 자 | G4: 상호또는 법인명칭 : | L4: 블로그 주식회사 | S4: 사업자등록번호 | W4: 123-45-67890
G5: 주 소 : | J5: 서울특별시
G6: 대 표 자 : | J6: 네이버 | S6: 전 화 번 호 | W6: 1588-0000
B7: 연 대 보 증 인 | G7: 상호또는 법인명칭 : | S7: 사업자등록번호
G8: 주 소 :
G9: 대 표 자 : | S9: 전 화 번 호
A10: 계 약 내 용 | B10: 공 사 명 | G10: 서울시청 통신공사
B11: 계 약 금 액 | G11: ="일금"&NUMBERSTRING(V11,1)&"원정" -> 일금일천만원정 | U11: ( | V11: 10000000 | AA11: )
B12: 총공사 부기금액 | U12: ( | AA12: )
B13: 계 약 보 증 금 | G13: 지급각서로대치 | U13: ( | AA13: )
B14: 현 장 | G14: 서울시청
B15: 지 체 상 금 율 | G15: 일천분의 일 (0.1%)
B16: 물 가 변 동 계 약
B17: 계 약 년 월 일 | L17: 2019년 11월 일
B18: 착 공 년 월 일 | L18: 2019년 12월 일
B19: 준 공 년 월 일 | L19: 2019년 12월 일
B20: 기 타 사 항
A21: 하자 담보 책임 (복합 공종의 경우 공종 별 구분 기재)
A22: 공 종 | E22: 공종별계약금액 | J22: 하자보수 보증금율 (%) 및 금액 | U22: 하자담보 책임기간
A23: 통신 | E23: =V11 -> 10000000 | M23: 금 | N23: 하자보증각서대치 | T23: 원정 | U23: 준공검사일부터 1년
M24: 금 | N24: =ROUNDUP(E24*J24,-1) -> 0 | T24: 원정 | U24: 년
M25: 금 | T25: 원정 | U25: 년
A26: 중앙관서의 장(계약 담당공무원)과 계약상대자는 상호 대등한 입장에서 붙임의 계약문서에 의하여 위의 공사에 대한 도급 계약을 체결하고 신의에 따라 성실히 계약상의 의무를 이행할 것을 확약하며 이 계약의 증거로서 계약서를 작성하여 당사자가 기명 날인한 후 각각 1통씩 보관한다.
Q33: 2020년 월 일
E35: 계약 담당 공무원 | L35: 서울특별시청 재무관 | Z35: (인)
E38: 계 약 상 대 자 | L38: =L4 -> 블로그 주식회사 | R38: =J6 -> 네이버 | Z38: (인)

Sheet 사용인감신고서
G2: 사용인감신고서
B4: 법인인감 | G4: 사용인감 | N4: 법인의 명칭 등
L5: 법인명 : | P5: =표준계약서!L4 -> 블로그 주식회사
L6: 법인등록번호:
L7: 주 소 : | P7: =표준계약서!J5 -> 서울특별시
L8: 대표이사 : | P8: =표준계약서!J6 -> 네이버
B10: 공사명 | F10: : | G10: =표준계약서!G10 -> 서울시청 통신공사
B12: 위 사용인감은 법인인감과 동일한 효력을 가집니다. 본 사용인감을 사용하겠으며
B13: 이로 인하여 발생하는 제반문제는 당사가 책임질 것을 확약하며 사용인감계를
B14: 제출합니다.
B16: 붙임. 법인인감증명서 1통
M19: =표준계약서!Q33 -> 2020년 월 일
A24: =표준계약서!L4 -> 블로그 주식회사

Sheet 착공신고서
A2: 착 공 신 고 서
O4: 감독관 경유 : (인)
X5: =IF(P5="","","(인)")
B6: 공사명 | H6: : | I6: =표준계약서!G10 -> 서울시청 통신공사
B7: 공사현장 | H7: : | I7: =표준계약서!G14 -> 서울시청
B8: 계약금액 | H8: : | I8: =표준계약서!G11 -> 일금일천만원정
I9: ( | J9: =표준계약서!V11 -> 10000000 | Q9: )
B10: 계약년월일 | H10: : | I10: =표준계약서!L17 -> 2019년 11월 일
B11: 착공년월일 | H11: : | I11: =표준계약서!L18 -> 2019년 12월 일
B12: 준공예정일 | H12: : | I12: =표준계약서!L19 -> 2019년 12월 일
B14: 위와 같이 착공하였기에 착공신고서를 제출합니다.
L20: =표준계약서!Q33 -> 2020년 월 일
H22: 주소 | K22: : | L22: =표준계약서!J5 -> 서울특별시
H23: 상호 | K23: : | L23: =표준계약서!L4 -> 블로그 주식회사
H24: 성명 | K24: : | L24: =표준계약서!J6 -> 네이버 | S24: (인)
B28: =표준계약서!L35 &" 귀하" -> 서울특별시청 재무관 귀하

Sheet 현장대리인계,재직증명서
H2: 현장대리인선임계
B5: 공사명 | F5: : | G5: =표준계약서!G10 -> 서울시청 통신공사
B6: 공사위치 | F6: : | G6: =표준계약서!G14 -> 서울시청
B7: 계약금액 | F7: : | G7: =표준계약서!G11 -> 일금일천만원정
G8: ( | H8: =표준계약서!V11 -> 10000000 | M8: )
A10: ㅇ 현장대리인
B11: 주소 | F11: :
B12: 성명 | F12: :
B13: 주민등록번호 | F13: :
A15: o 기술분야 자격
B16: 종 목 | H16: 등 급 | L16: 등 록 번 호 | T16: 취 득 년 월 일
B17: 정보통신기술자
A19: 위와 같이 현장대리인을 선정하였기에 현장대리인 선임계를 제출합니다.
B21: 붙임 : | E21: 1. 재직증명서 1부
M25: =표준계약서!Q33 -> 2020년 월 일
J27: 주소 | M27: : | N27: =표준계약서!J5 -> 서울특별시
J28: 상호 | M28: : | N28: =표준계약서!L4 -> 블로그 주식회사
J29: 성명 | M29: : | N29: =표준계약서!J6 -> 네이버 | U29: (인)
B32: =표준계약서!L35 &" 귀하" -> 서울특별시청 재무관 귀하
F35: 재직증명서
A38: 성 명 | I38: =G12 -> 0
A39: 주 소 | I39: =G11 -> 0
A40: 주 민 등 록 번 호 | I40: =G13 -> 0
A41: 소 속
A42: 직 위
A43: 기 간 | P43: ~ | Q43: 현재
A45: 위와 같이 재직을 증명합니다.
M48: =표준계약서!Q33 -> 2020년 월 일
J51: 주소 | M51: : | N51: =N27 -> 서울특별시
J52: 상호 | M52: : | N52: =N28 -> 블로그 주식회사
J53: 성명 | M53: : | N53: =표준계약서!J6 -> 네이버 | T53: (인)
B57: =표준계약서!L35 &" 귀하" -> 서울특별시청 재무관 귀하

Sheet 예정공정표
A1: 공 사 예 정 공 정 표
B3: 공 사 명: | H3: =표준계약서!G10 -> 서울시청 통신공사
B4: 계 약 금 액: | H4: =표준계약서!G11 -> 일금일천만원정 | P4: ( | Q4: =표준계약서!V11 -> 10000000 | V4: )
B5: 계약년월일: | H5: =표준계약서!L17 -> 2019년 11월 일
B6: 착공년월일: | H6: =표준계약서!L18 -> 2019년 12월 일
B7: 준공예정일: | H7: =표준계약서!L19 -> 2019년 12월 일
B9: 공종 | H9: 공사예정기간(28일) | AB9: 비 고
J10: ( | K10: =H6 -> 2019년 12월 일 | Q10: ~ | S10: =H7 -> 2019년 12월 일 | Y10: )
H11: 3 | J11: 6 | L11: 9 | N11: 12 | P11: 15 | R11: 18 | T11: 21 | V11: 24 | X11: 27 | Z11: 28
B12: 기술협희
B15: 배수공
B18: 상수공
B21: 시스템구입 및 제작
B24: 시스템설치
B27: 시험테스트
B30: 종합시운전 및 준공
A34: 위와 같이 공사예정공정표를 제출합니다.
A36: =표준계약서!Q33 -> 2020년 월 일
O38: 주소 | R38: : | S38: =표준계약서!J5 -> 서울특별시
O39: 상호 | R39: : | S39: =표준계약서!L4 -> 블로그 주식회사
O40: 대표자 | R40: : | S40: =표준계약서!J6 -> 네이버 | W40: (인)
B42: =표준계약서!L35 &" 귀하" -> 서울특별시청 재무관 귀하

Sheet 준공신고서
A2: 준 공 신 고 서
B4: 공사명 | H4: : | I4: =표준계약서!G10 -> 서울시청 통신공사
B5: 공사위치 | H5: : | I5: =표준계약서!G14 -> 서울시청
B6: 계약금액 | H6: : | I6: =표준계약서!G11 -> 일금일천만원정
I7: ( | J7: =표준계약서!V11 -> 10000000 | Q7: )
B8: 계약년월일 | H8: : | I8: =표준계약서!L17 -> 2019년 11월 일
B9: 착공년월일 | H9: : | I9: =표준계약서!L18 -> 2019년 12월 일
B10: 준공년월일 | H10: : | I10: =표준계약서!L19 -> 2019년 12월 일
B11: 실지준공년월일 | H11: :
A13: 위와 같이 준공되었기에 준공신고서를 제출합니다.
K16: 2019년 12월 일
H18: 주소 | K18: : | L18: =표준계약서!J5 -> 서울특별시
H19: 상호 | K19: : | L19: =표준계약서!L4 -> 블로그 주식회사
H20: 대표자 | K20: : | L20: =표준계약서!J6 -> 네이버 | T20: (인)
B24: =표준계약서!L35 &" 귀하" -> 서울특별시청 재무관 귀하
A27: 준 공 검 사 원
M29: 감독관경유 : | X29: (인)
A30: 1. | B30: 공사명 | G30: : | H30: =I4 -> 서울시청 통신공사
A31: 2. | B31: 공사위치 | G31: : | H31: =I5 -> 서울시청
A32: 3. | B32: 계약금액 | G32: : | H32: =I6 -> 일금일천만원정
H33: ( | I33: =J7 -> 10000000 | O33: )
A34: 4. | B34: =B8 -> 계약년월일 | G34: : | H34: =I8 -> 2019년 11월 일
A35: 5. | B35: =B9 -> 착공년월일 | G35: : | H35: =I9 -> 2019년 12월 일
A36: 6. | B36: =B10 -> 준공년월일 | G36: : | H36: =I10 -> 2019년 12월 일
A37: 7. | B37: =B11 -> 실지준공년월일 | G37: : | H37: =I11 -> 0
A38: 8. | B38: 첨부서류 | G38: : | H38: 준공사진
A40: 위 공사의 도급시행에 있어서 공사전반에 걸쳐 공사설계도서, 제 시방서, 품질관리기준
A41: 및 기타 약정대로 어김없이 준공되었음을 확약하오며 만약 하자책임기간내에 공사의
A42: 시공ㆍ감독 및 검사에 관하여 하자가 발견될 시에는 즉시 변상 또는 재시공할 것을
A43: 서약하고 이에 준공검사원을 제출합니다.
A45: =K16 -> 2019년 12월 일
H47: 주소 | K47: : | L47: =표준계약서!J5 -> 서울특별시
H48: 상호 | K48: : | L48: =L19 -> 블로그 주식회사
H49: 대표자 | K49: : | L49: =L20 -> 네이버 | Q49: (인)
B52: =표준계약서!L35 &" 귀하" -> 서울특별시청 재무관 귀하

Sheet 기성금청구서
I2: 대금청구서
B6: 공사명 | G6: : | H6: =표준계약서!G10 -> 서울시청 통신공사
B8: 청구금액 | G8: : | H8: ="일금"&NUMBERSTRING(I9,1)&"원정" -> 일금일천만원정
H9: ( | I9: =표준계약서!V11 -> 10000000 | Q9: )
A11: 상기와 같이 대금을 청구하오니, 입금하여 주시기 바랍니다.
A14: =준공신고서!K16 -> 2019년 12월 일
H17: 주소 | K17: : | L17: =표준계약서!J5 -> 서울특별시
H18: 상호 | K18: : | L18: =표준계약서!L4 -> 블로그 주식회사
H19: 대표자 | K19: : | L19: =표준계약서!J6 -> 네이버 | Q19: (인)
B22: =표준계약서!L35 &" 귀하" -> 서울특별시청 재무관 귀하

Sheet 하자보증각서
G1: 하자보증이행각서
A3: 공 사 명 | G3: =표준계약서!G10 -> 서울시청 통신공사
A4: 계 약 금 액 | G4: =표준계약서!G11 -> 일금일천만원정 | T4: ( | U4: =표준계약서!V11 -> 10000000 | AA4: )
A5: 계 약 일 자 | G5: =표준계약서!L17 -> 2019년 11월 일 | P5: 준 공 일 자 | V5: =표준계약서!L19 -> 2019년 12월 일
A6: 하자보증금율 | G6: 0.02 | P6: 하자보수 | V6: 1년
A7: 하자보증금액 | G7: 준공검사일로 부터~1년
A8: 하 자 보 수 이 행 방 법 | G8: 이행각서
B10: "본인은 귀사에서 시행하는 위의 공사에 대한 하자보수를 이행함에 있어 공사계약일반조건에 따라 면제 받은 바, 하자책임기간내에 하자가 발견될 시에는 즉시 실액변상 또는 재시공할 것을 확약하며, 이를 이행치 않을 경우 귀사의 어떠한 조치에도 이의를 제기하지 않겠기에 각서를 제출합니다."
A14: =준공신고서!K16 -> 2019년 12월 일
H16: 주소 | K16: : | L16: =표준계약서!J5 -> 서울특별시
H17: 상호 | K17: : | L17: =표준계약서!L4 -> 블로그 주식회사
H18: 대표자 | K18: : | L18: =표준계약서!J6 -> 네이버 | T18: (인)
B20: =표준계약서!L35 &" 귀하" -> 서울특별시청 재무관 귀하
